BEGIN:VCALENDAR
VERSION:2.0
PRODID:-//Bijbelschool | Interkerkelijk | School of Revival - ECPv6.15.20//NONSGML v1.0//EN
CALSCALE:GREGORIAN
METHOD:PUBLISH
X-ORIGINAL-URL:https://schoolofrevival.nl
X-WR-CALDESC:Evenementen voor Bijbelschool | Interkerkelijk | School of Revival
REFRESH-INTERVAL;VALUE=DURATION:PT1H
X-Robots-Tag:noindex
X-PUBLISHED-TTL:PT1H
BEGIN:VTIMEZONE
TZID:Europe/Amsterdam
BEGIN:DAYLIGHT
TZOFFSETFROM:+0100
TZOFFSETTO:+0200
TZNAME:CEST
DTSTART:20240331T010000
END:DAYLIGHT
BEGIN:STANDARD
TZOFFSETFROM:+0200
TZOFFSETTO:+0100
TZNAME:CET
DTSTART:20241027T010000
END:STANDARD
BEGIN:DAYLIGHT
TZOFFSETFROM:+0100
TZOFFSETTO:+0200
TZNAME:CEST
DTSTART:20250330T010000
END:DAYLIGHT
BEGIN:STANDARD
TZOFFSETFROM:+0200
TZOFFSETTO:+0100
TZNAME:CET
DTSTART:20251026T010000
END:STANDARD
BEGIN:DAYLIGHT
TZOFFSETFROM:+0100
TZOFFSETTO:+0200
TZNAME:CEST
DTSTART:20260329T010000
END:DAYLIGHT
BEGIN:STANDARD
TZOFFSETFROM:+0200
TZOFFSETTO:+0100
TZNAME:CET
DTSTART:20261025T010000
END:STANDARD
END:VTIMEZONE
BEGIN:VEVENT
DTSTART;VALUE=DATE:20251020
DTEND;VALUE=DATE:20251102
DTSTAMP:20260426T030854
CREATED:20250430T101704Z
LAST-MODIFIED:20250430T102550Z
UID:6350-1760925600-1761958799@schoolofrevival.nl
SUMMARY:Herfstvakantie
DESCRIPTION:
URL:https://schoolofrevival.nl/event/herfstvakantie-2025-2026/
LOCATION:Locatie Veluwe-Noord | Doornspijk/Elburg\, Haerderweg 1\, Doornspijk\, 8085 RG
CATEGORIES:Event
END:VEVENT
BEGIN:VEVENT
DTSTART;VALUE=DATE:20251111
DTEND;VALUE=DATE:20251115
DTSTAMP:20260426T030854
CREATED:20250430T070959Z
LAST-MODIFIED:20250430T072855Z
UID:6326-1762819200-1763164799@schoolofrevival.nl
SUMMARY:Bijbelschool Ministry Week | Hele School | 2025/2026
DESCRIPTION:Dit wordt een onvergetelijk tijd. En het is een verplicht onderdeel van de school\, ook voor de parttimers. Alleen in overleg en uitzonderlijke gevallen kan hier uitstel voor worden verkregen.\nDe kosten hiervan zijn al bij je schoolgeld inbegrepen.
URL:https://schoolofrevival.nl/event/bijbelschool-ministry-week/
LOCATION:Landgoed Baak\, Wichmondseweg 19\, Baak\, 7223 LH
CATEGORIES:Event
ATTACH;FMTTYPE=image/jpeg:https://schoolofrevival.nl/wp-content/uploads/2025/04/baak-landgoed.jpg
END:VEVENT
BEGIN:VEVENT
DTSTART;TZID=Europe/Amsterdam:20251127T180000
DTEND;TZID=Europe/Amsterdam:20251127T220000
DTSTAMP:20260426T030854
CREATED:20250430T111933Z
LAST-MODIFIED:20250430T112025Z
UID:6391-1764266400-1764280800@schoolofrevival.nl
SUMMARY:Thanksgiving Gala
DESCRIPTION:We eten met elkaar\, en vullen een avond met dankbaarheid!\nLocatie vlgt\, maar wordt midden van het land.
URL:https://schoolofrevival.nl/event/thanksgiving-gala/
LOCATION:Alle Locaties
END:VEVENT
BEGIN:VEVENT
DTSTART;TZID=Europe/Amsterdam:20251130T193000
DTEND;TZID=Europe/Amsterdam:20251130T220000
DTSTAMP:20260426T030854
CREATED:20251127T114320Z
LAST-MODIFIED:20251127T114420Z
UID:8061-1764531000-1764540000@schoolofrevival.nl
SUMMARY:Meeting Jesus – Benefiet Worship Night
DESCRIPTION:Zorg dat je er bij bent! 🔥 \nWil jij een avond aan de voeten van Jezus zijn om;\nZijn liefde\,\nZijn vreugde en\nZijn stromen van levend water te ontvangen?  \n🎶 Wat? Worship Night\n📍 Waar? Rijsoord NL\, Rijksstraatweg 95\, 2988 BB\, Ridderkerk\n📆 Wanneer? Zondag 30 november\n⏰ Hoe laat? 19:30\n🏫 Door? Studenten van de School of Revival van IAM Loved \n💶 Tijdens de dienst zal er een vrijblijvende collecte worden gehouden worden voor de missiereis naar Zambia 🇿🇲. \nNa de dienst is er ruimte om met elkaar na te kletsen met een hapje en een drankje 🤗. \nEn er wordt er warme chocolademelk melk 🥛 en ‘home made chocolate chip cookies’🍪 verkocht 🤑. \nMaar bovenal verlangen wij naar een avond van intimiteit en verbinding aan de voeten van Jezus 🫶🏼.  \nZien we je daar? 🥰 \nPs. houdt onze socials in de gate voor meer acties 😋
URL:https://schoolofrevival.nl/event/meeting-jesus-benefiet-worship-night/
LOCATION:Rijkststraatweg 97\, Ridderkerk\, Rijksstraatweg 97\, Ridderkerk\, 2988BB
ATTACH;FMTTYPE=image/jpeg:https://schoolofrevival.nl/wp-content/uploads/2025/11/cdf0c960-e3e4-4175-aa5c-862135b88ba3.jpeg
END:VEVENT
END:VCALENDAR