BEGIN:VCALENDAR
VERSION:2.0
PRODID:-//Bijbelschool | Interkerkelijk | School of Revival - ECPv6.15.20//NONSGML v1.0//EN
CALSCALE:GREGORIAN
METHOD:PUBLISH
X-WR-CALNAME:Bijbelschool | Interkerkelijk | School of Revival
X-ORIGINAL-URL:https://schoolofrevival.nl
X-WR-CALDESC:Evenementen voor Bijbelschool | Interkerkelijk | School of Revival
REFRESH-INTERVAL;VALUE=DURATION:PT1H
X-Robots-Tag:noindex
X-PUBLISHED-TTL:PT1H
BEGIN:VTIMEZONE
TZID:Europe/Amsterdam
BEGIN:DAYLIGHT
TZOFFSETFROM:+0100
TZOFFSETTO:+0200
TZNAME:CEST
DTSTART:20250330T010000
END:DAYLIGHT
BEGIN:STANDARD
TZOFFSETFROM:+0200
TZOFFSETTO:+0100
TZNAME:CET
DTSTART:20251026T010000
END:STANDARD
BEGIN:DAYLIGHT
TZOFFSETFROM:+0100
TZOFFSETTO:+0200
TZNAME:CEST
DTSTART:20260329T010000
END:DAYLIGHT
BEGIN:STANDARD
TZOFFSETFROM:+0200
TZOFFSETTO:+0100
TZNAME:CET
DTSTART:20261025T010000
END:STANDARD
BEGIN:DAYLIGHT
TZOFFSETFROM:+0100
TZOFFSETTO:+0200
TZNAME:CEST
DTSTART:20270328T010000
END:DAYLIGHT
BEGIN:STANDARD
TZOFFSETFROM:+0200
TZOFFSETTO:+0100
TZNAME:CET
DTSTART:20271031T010000
END:STANDARD
END:VTIMEZONE
BEGIN:VEVENT
DTSTART;VALUE=DATE:20260709
DTEND;VALUE=DATE:20260903
DTSTAMP:20260425T232732
CREATED:20250430T103830Z
LAST-MODIFIED:20250707T142357Z
UID:6379-1783555200-1788393599@schoolofrevival.nl
SUMMARY:Zomervakantie (Veluwe-Noord)
DESCRIPTION:
URL:https://schoolofrevival.nl/event/zomervakantie-3/
LOCATION:Locatie Veluwe-Noord | Doornspijk/Elburg\, Haerderweg 1\, Doornspijk\, 8085 RG
END:VEVENT
END:VCALENDAR