BEGIN:VCALENDAR
VERSION:2.0
PRODID:-//Bijbelschool | Interkerkelijk | School of Revival - ECPv6.15.20//NONSGML v1.0//EN
CALSCALE:GREGORIAN
METHOD:PUBLISH
X-ORIGINAL-URL:https://schoolofrevival.nl
X-WR-CALDESC:Evenementen voor Bijbelschool | Interkerkelijk | School of Revival
REFRESH-INTERVAL;VALUE=DURATION:PT1H
X-Robots-Tag:noindex
X-PUBLISHED-TTL:PT1H
BEGIN:VTIMEZONE
TZID:Europe/Amsterdam
BEGIN:DAYLIGHT
TZOFFSETFROM:+0100
TZOFFSETTO:+0200
TZNAME:CEST
DTSTART:20250330T010000
END:DAYLIGHT
BEGIN:STANDARD
TZOFFSETFROM:+0200
TZOFFSETTO:+0100
TZNAME:CET
DTSTART:20251026T010000
END:STANDARD
BEGIN:DAYLIGHT
TZOFFSETFROM:+0100
TZOFFSETTO:+0200
TZNAME:CEST
DTSTART:20260329T010000
END:DAYLIGHT
BEGIN:STANDARD
TZOFFSETFROM:+0200
TZOFFSETTO:+0100
TZNAME:CET
DTSTART:20261025T010000
END:STANDARD
BEGIN:DAYLIGHT
TZOFFSETFROM:+0100
TZOFFSETTO:+0200
TZNAME:CEST
DTSTART:20270328T010000
END:DAYLIGHT
BEGIN:STANDARD
TZOFFSETFROM:+0200
TZOFFSETTO:+0100
TZNAME:CET
DTSTART:20271031T010000
END:STANDARD
END:VTIMEZONE
BEGIN:VEVENT
DTSTART;TZID=Europe/Amsterdam:20260312T193000
DTEND;TZID=Europe/Amsterdam:20260312T210000
DTSTAMP:20260425T215152
CREATED:20260219T151138Z
LAST-MODIFIED:20260219T151138Z
UID:8113-1773343800-1773349200@schoolofrevival.nl
SUMMARY:Open Avond (Locatie Veluwe-Noord)
DESCRIPTION:Ontdek wat onze Bijbelschool voor jou kan betekenen tijdens onze informatiemomenten!\nTijdens deze open avond krijg je een kijkje achter de schermen van onze Bijbelschool. \nLaat ons weten dat je komt\, dan zeten we even iets leuks voor je klaar. \nLees meer of meld je aan…
URL:https://schoolofrevival.nl/event/open-avond-locatie-veluwe-noord/
LOCATION:Locatie Veluwe Noord\, Industrieweg 59\, Nunspeet\, 8071 CS
ATTACH;FMTTYPE=image/png:https://schoolofrevival.nl/wp-content/uploads/2026/02/Open-dag-Veluwe-Bijbelschool-SOR-Nunspeet-Doornspijk-Elburg-1.png
END:VEVENT
BEGIN:VEVENT
DTSTART;VALUE=DATE:20260316
DTEND;VALUE=DATE:20260328
DTSTAMP:20260425T215152
CREATED:20250509T133820Z
LAST-MODIFIED:20251203T160225Z
UID:6790-1773622800-1774573199@schoolofrevival.nl
SUMMARY:Mission Week Keuze | Nederland | Alle Jaren
DESCRIPTION:Mission Week – 2026\nJij gaat op missie! \nGoed nieuws! Jij gaat op reis in het binnen of buitenland en we gaan impact hebben op heel veel delen in de samenleving! Ga je mee op avontuur? \nDe eerstejaars FT & PT gaan of naar Roemenië of blijven in Nederland!\nDe tweedejaars gaan op missie naar Zambia. Doe je een derde jaar dan gaan we ook op avontuur\, dit jaar is dat Curaçao! \nNederland | 16 t/m 27 maart 2026\nRoemenië | 16 t/m 27 maart 2026\nZambia | 2 t/m 14 februari 2026 \nWe houden je via onze appgroepen op de hoogte!
URL:https://schoolofrevival.nl/event/mission-week-keuze-nederland-alle-jaren/
CATEGORIES:Event
ORGANIZER;CN="I AM School of Revival":MAILTO:info@schoolofrevival.nl
END:VEVENT
BEGIN:VEVENT
DTSTART;VALUE=DATE:20260317
DTEND;VALUE=DATE:20260328
DTSTAMP:20260425T215152
CREATED:20250509T133929Z
LAST-MODIFIED:20251007T123919Z
UID:6793-1773709200-1774573199@schoolofrevival.nl
SUMMARY:Mission Week Keuze | Roemenië | Alle Jaren
DESCRIPTION:???? Mission Week – 2026\n???? Mission Week – 2026\nJij gaat op missie! \nGoed nieuws! Jij gaat op reis in het binnen of buitenland en we gaan impact hebben op heel veel delen in de samenleving! Ga je mee op avontuur? \nDe eerstejaars FT & PT gaan of naar Roemenië of blijven in Nederland!\nDe tweedejaars gaan op missie naar Zambia. Doe je een derde jaar dan gaan we ook op avontuur\, dit jaar is dat Curaçao! \n???? Nederland | 16 t/m 26 maart 2026\n???? Roemenië | 17 t/m 26 maart 2026\n???? Zambia | 2 t/m 13 februari 2026 \nWe houden je via onze appgroepen op de hoogte!
URL:https://schoolofrevival.nl/event/mission-week-keuze-roemenie-alle-jaren/
CATEGORIES:Event
ORGANIZER;CN="I AM School of Revival":MAILTO:info@schoolofrevival.nl
END:VEVENT
BEGIN:VEVENT
DTSTART;TZID=Europe/Amsterdam:20260327T150000
DTEND;TZID=Europe/Amsterdam:20260327T210000
DTSTAMP:20260425T215152
CREATED:20260312T105903Z
LAST-MODIFIED:20260312T105903Z
UID:8166-1774623600-1774645200@schoolofrevival.nl
SUMMARY:Event – De Heilige Geest
DESCRIPTION:Wie is de Heilige Geest eigenlijk echt?\nVeel christenen geloven in de Heilige Geest… maar ervaren Hem nauwelijks persoonlijk.\nToch zegt Jezus dat het goed was dat Hij ging\, zodat de Heilige Geest zou komen. \nHij is geen kracht of gevoel…\nHij is een Persoon die ons wil leiden\, onderwijzen en helpen om met God te wandelen. \nDaarom organiseren we een dag rondom één centrale vraag: Wie is de Heilige Geest en wat is Zijn werk? \nTijdens deze bijeenkomst nemen we de tijd voor:\n• diepgaand Bijbels onderwijs\n• worship en ontmoeting met God\n• ruimte voor vragen\n• praktische voorbeelden uit het dagelijks leven\n• gebed en bediening \n📖 “En Ik zal de Vader bidden\, en Hij zal u een andere Trooster geven\, opdat Hij bij u blijft tot in eeuwigheid.” Johannes 14:16 HSV \n📅 Vrijdag 27 maart\n🕒 15.00 – 21.00\n📍 Locatie: Brabantse Land Jagerspad 30\, 4283 GM\, Giessen \nDe dag is gratis\, aanmelden is wel nodig. \nMeer info en aanmelden via: https://iamloved.nl/hgy
URL:https://schoolofrevival.nl/event/event-de-heilige-geest/
LOCATION:Brabantse Land Jagerspad 30\, 4283 GM\, Giessen\, Jagerspad 30\, Giessen\, 4283GM
CATEGORIES:Event
ATTACH;FMTTYPE=image/png:https://schoolofrevival.nl/wp-content/uploads/2026/03/i-am-yours-heilige-geest-event-2-1.png
END:VEVENT
BEGIN:VEVENT
DTSTART;TZID=Europe/Amsterdam:20260402T123000
DTEND;TZID=Europe/Amsterdam:20260402T140000
DTSTAMP:20260425T215152
CREATED:20250430T101348Z
LAST-MODIFIED:20250430T101348Z
UID:6348-1775133000-1775138400@schoolofrevival.nl
SUMMARY:Paasbrunch / lunch
DESCRIPTION:
URL:https://schoolofrevival.nl/event/paasbrunch-lunch/
LOCATION:Alle Locaties
END:VEVENT
BEGIN:VEVENT
DTSTART;TZID=Europe/Amsterdam:20260402T193000
DTEND;TZID=Europe/Amsterdam:20260402T210000
DTSTAMP:20260425T215152
CREATED:20260219T151420Z
LAST-MODIFIED:20260219T151648Z
UID:8136-1775158200-1775163600@schoolofrevival.nl
SUMMARY:Open Avond (Locatie Zuid-Holland)
DESCRIPTION:Ontdek wat onze Bijbelschool voor jou kan betekenen tijdens onze informatiemomenten!\nTijdens deze open middag krijg je een kijkje achter de schermen van onze Bijbelschool. \nLaat ons weten dat je komt\, dan zeten we even iets leuks voor je klaar. \nLees meer of meld je aan…
URL:https://schoolofrevival.nl/event/open-avond-locatie-zuid-holland-2/
LOCATION:Locatie Zuid-Holland | Ridderkerk/Rijsoord\, Rijksstraatweg 95\, Ridderkerk Rijsoord\, 2988BB
CATEGORIES:Zuid-Holland Info
ATTACH;FMTTYPE=image/png:https://schoolofrevival.nl/wp-content/uploads/2026/02/Open-dag-Zuid-Holland-Bijbelschool-SOR-Zwijndrecht-Ridderkerk-Rijsoord-1.png
END:VEVENT
BEGIN:VEVENT
DTSTART;VALUE=DATE:20260403
DTEND;VALUE=DATE:20260407
DTSTAMP:20260425T215152
CREATED:20250430T101147Z
LAST-MODIFIED:20250430T101147Z
UID:6345-1775174400-1775519999@schoolofrevival.nl
SUMMARY:Paasweekend - Vakantie (Alle Locaties)
DESCRIPTION:
URL:https://schoolofrevival.nl/event/paasweekend-vakantie-alle-locaties/
LOCATION:Alle Locaties
END:VEVENT
BEGIN:VEVENT
DTSTART;VALUE=DATE:20260420
DTEND;VALUE=DATE:20260504
DTSTAMP:20260425T215152
CREATED:20250430T102452Z
LAST-MODIFIED:20250430T102606Z
UID:6358-1776650400-1777773599@schoolofrevival.nl
SUMMARY:Meivakantie
DESCRIPTION:
URL:https://schoolofrevival.nl/event/meivakantie-2026/
LOCATION:Alle Locaties
CATEGORIES:Event
END:VEVENT
BEGIN:VEVENT
DTSTART;TZID=Europe/Amsterdam:20260507T193000
DTEND;TZID=Europe/Amsterdam:20260507T210000
DTSTAMP:20260425T215152
CREATED:20260219T145906Z
LAST-MODIFIED:20260219T145906Z
UID:8118-1778182200-1778187600@schoolofrevival.nl
SUMMARY:Online open Avond (Voor alle locaties)
DESCRIPTION:Ontdek wat onze Bijbelschool voor jou kan betekenen tijdens onze informatiemomenten!\nTijdens deze open avond krijg je een kijkje achter de schermen van onze Bijbelschool. \nLaat ons weten dat je komt\, dan ontvang je per ommegaande de Zoom link voor deze avond. \nLees meer of meld je aan…
URL:https://schoolofrevival.nl/event/online-open-avond-voor-alle-locaties-2/
LOCATION:Online link via email
ATTACH;FMTTYPE=image/png:https://schoolofrevival.nl/wp-content/uploads/2026/02/Open-dag-Online-Holland-Bijbelschool-SOR-1.png
END:VEVENT
BEGIN:VEVENT
DTSTART;VALUE=DATE:20260514
DTEND;VALUE=DATE:20260517
DTSTAMP:20260425T215152
CREATED:20250430T103240Z
LAST-MODIFIED:20250430T103240Z
UID:6372-1778716800-1778975999@schoolofrevival.nl
SUMMARY:Hemelvaartweekend - Vakantie (Alle Locaties)
DESCRIPTION:
URL:https://schoolofrevival.nl/event/hemelvaartweekend-vakantie-alle-locaties/
LOCATION:Alle Locaties
END:VEVENT
BEGIN:VEVENT
DTSTART;VALUE=DATE:20260525
DTEND;VALUE=DATE:20260526
DTSTAMP:20260425T215152
CREATED:20250430T103500Z
LAST-MODIFIED:20250430T103500Z
UID:6375-1779667200-1779753599@schoolofrevival.nl
SUMMARY:2e Pinksterdag (Alle Locaties)
DESCRIPTION:
URL:https://schoolofrevival.nl/event/2e-pinksterdag-alle-locaties/
LOCATION:Alle Locaties
END:VEVENT
BEGIN:VEVENT
DTSTART;TZID=Europe/Amsterdam:20260610T193000
DTEND;TZID=Europe/Amsterdam:20260610T210000
DTSTAMP:20260425T215152
CREATED:20260219T151521Z
LAST-MODIFIED:20260219T151521Z
UID:8138-1781119800-1781125200@schoolofrevival.nl
SUMMARY:Open Avond (Locatie Zuid-Holland)
DESCRIPTION:Ontdek wat onze Bijbelschool voor jou kan betekenen tijdens onze informatiemomenten!\nTijdens deze open avond krijg je een kijkje achter de schermen van onze Bijbelschool. \nLaat ons weten dat je komt\, dan zeten we even iets leuks voor je klaar. \nLees meer of meld je aan…
URL:https://schoolofrevival.nl/event/open-avond-locatie-zuid-holland/
LOCATION:Locatie Zuid-Holland | Ridderkerk/Rijsoord\, Rijksstraatweg 95\, Ridderkerk Rijsoord\, 2988BB
CATEGORIES:Event,Zuid-Holland Info
ATTACH;FMTTYPE=image/png:https://schoolofrevival.nl/wp-content/uploads/2026/02/Open-dag-Zuid-Holland-Bijbelschool-SOR-Zwijndrecht-Ridderkerk-Rijsoord-4.png
END:VEVENT
BEGIN:VEVENT
DTSTART;TZID=Europe/Amsterdam:20260611T193000
DTEND;TZID=Europe/Amsterdam:20260611T210000
DTSTAMP:20260425T215152
CREATED:20260219T151214Z
LAST-MODIFIED:20260219T151227Z
UID:8134-1781206200-1781211600@schoolofrevival.nl
SUMMARY:Open Avond (Locatie Veluwe-Noord)
DESCRIPTION:Ontdek wat onze Bijbelschool voor jou kan betekenen tijdens onze informatiemomenten!\nTijdens deze open avond krijg je een kijkje achter de schermen van onze Bijbelschool. \nLaat ons weten dat je komt\, dan zeten we even iets leuks voor je klaar. \nLees meer of meld je aan…
URL:https://schoolofrevival.nl/event/open-avond-locatie-veluwe-noord-2/
LOCATION:Locatie Veluwe Noord\, Industrieweg 59\, Nunspeet\, 8071 CS
ATTACH;FMTTYPE=image/png:https://schoolofrevival.nl/wp-content/uploads/2026/02/Open-dag-Veluwe-Bijbelschool-SOR-Nunspeet-Doornspijk-Elburg-7.png
END:VEVENT
BEGIN:VEVENT
DTSTART;TZID=Europe/Amsterdam:20260625T190000
DTEND;TZID=Europe/Amsterdam:20260625T220000
DTSTAMP:20260425T215152
CREATED:20250430T074913Z
LAST-MODIFIED:20250701T124251Z
UID:6336-1782414000-1782424800@schoolofrevival.nl
SUMMARY:Diplomering 2025/2026 (Zuid-Holland)
DESCRIPTION:
URL:https://schoolofrevival.nl/event/diplomering-2025-2026-zuid-holland/
LOCATION:Locatie Zuid-Holland | Ridderkerk/Rijsoord\, Rijksstraatweg 95\, Ridderkerk Rijsoord\, 2988BB
END:VEVENT
BEGIN:VEVENT
DTSTART;VALUE=DATE:20260629
DTEND;VALUE=DATE:20260828
DTSTAMP:20260425T215152
CREATED:20250430T103722Z
LAST-MODIFIED:20250707T142327Z
UID:6377-1782691200-1787875199@schoolofrevival.nl
SUMMARY:Zomervakantie (Zuid-Holland)
DESCRIPTION:
URL:https://schoolofrevival.nl/event/zomervakantie-2/
LOCATION:Locatie Zuid-Holland | Ridderkerk/Rijsoord\, Rijksstraatweg 95\, Ridderkerk Rijsoord\, 2988BB
END:VEVENT
BEGIN:VEVENT
DTSTART;TZID=Europe/Amsterdam:20260702T190000
DTEND;TZID=Europe/Amsterdam:20260702T220000
DTSTAMP:20260425T215152
CREATED:20250430T074846Z
LAST-MODIFIED:20250701T124307Z
UID:6337-1783018800-1783029600@schoolofrevival.nl
SUMMARY:Diplomering 2025/2026 (Veluwe-Noord)
DESCRIPTION:
URL:https://schoolofrevival.nl/event/diplomering-2025-2026-veluwe-noord/
LOCATION:Locatie volgt nog
END:VEVENT
BEGIN:VEVENT
DTSTART;VALUE=DATE:20260709
DTEND;VALUE=DATE:20260903
DTSTAMP:20260425T215152
CREATED:20250430T103830Z
LAST-MODIFIED:20250707T142357Z
UID:6379-1783555200-1788393599@schoolofrevival.nl
SUMMARY:Zomervakantie (Veluwe-Noord)
DESCRIPTION:
URL:https://schoolofrevival.nl/event/zomervakantie-3/
LOCATION:Locatie Veluwe-Noord | Doornspijk/Elburg\, Haerderweg 1\, Doornspijk\, 8085 RG
END:VEVENT
END:VCALENDAR