BEGIN:VCALENDAR
VERSION:2.0
PRODID:-//Bijbelschool | Interkerkelijk | School of Revival - ECPv6.15.20//NONSGML v1.0//EN
CALSCALE:GREGORIAN
METHOD:PUBLISH
X-WR-CALNAME:Bijbelschool | Interkerkelijk | School of Revival
X-ORIGINAL-URL:https://schoolofrevival.nl
X-WR-CALDESC:Evenementen voor Bijbelschool | Interkerkelijk | School of Revival
REFRESH-INTERVAL;VALUE=DURATION:PT1H
X-Robots-Tag:noindex
X-PUBLISHED-TTL:PT1H
BEGIN:VTIMEZONE
TZID:Europe/Amsterdam
BEGIN:DAYLIGHT
TZOFFSETFROM:+0100
TZOFFSETTO:+0200
TZNAME:CEST
DTSTART:20230326T010000
END:DAYLIGHT
BEGIN:STANDARD
TZOFFSETFROM:+0200
TZOFFSETTO:+0100
TZNAME:CET
DTSTART:20231029T010000
END:STANDARD
BEGIN:DAYLIGHT
TZOFFSETFROM:+0100
TZOFFSETTO:+0200
TZNAME:CEST
DTSTART:20240331T010000
END:DAYLIGHT
BEGIN:STANDARD
TZOFFSETFROM:+0200
TZOFFSETTO:+0100
TZNAME:CET
DTSTART:20241027T010000
END:STANDARD
BEGIN:DAYLIGHT
TZOFFSETFROM:+0100
TZOFFSETTO:+0200
TZNAME:CEST
DTSTART:20250330T010000
END:DAYLIGHT
BEGIN:STANDARD
TZOFFSETFROM:+0200
TZOFFSETTO:+0100
TZNAME:CET
DTSTART:20251026T010000
END:STANDARD
BEGIN:DAYLIGHT
TZOFFSETFROM:+0100
TZOFFSETTO:+0200
TZNAME:CEST
DTSTART:20260329T010000
END:DAYLIGHT
BEGIN:STANDARD
TZOFFSETFROM:+0200
TZOFFSETTO:+0100
TZNAME:CET
DTSTART:20261025T010000
END:STANDARD
END:VTIMEZONE
BEGIN:VEVENT
DTSTART;VALUE=DATE:20251013
DTEND;VALUE=DATE:20251026
DTSTAMP:20260426T062104
CREATED:20250430T101756Z
LAST-MODIFIED:20250430T102546Z
UID:6352-1760320800-1761357599@schoolofrevival.nl
SUMMARY:Herfstvakantie
DESCRIPTION:
URL:https://schoolofrevival.nl/event/herfstvakantie-2025-2026-2/
LOCATION:Locatie Zuid-Holland | Ridderkerk/Rijsoord\, Rijksstraatweg 95\, Ridderkerk Rijsoord\, 2988BB
CATEGORIES:Event
END:VEVENT
BEGIN:VEVENT
DTSTART;VALUE=DATE:20250922
DTEND;VALUE=DATE:20250923
DTSTAMP:20260426T062104
CREATED:20240828T101412Z
LAST-MODIFIED:20250430T074205Z
UID:5343-1758499200-1758585599@schoolofrevival.nl
SUMMARY:Start 3e jaar fulltime 2025/2026
DESCRIPTION:
URL:https://schoolofrevival.nl/event/start-3e-jaar-fulltime-2025/
LOCATION:Online link via email
END:VEVENT
BEGIN:VEVENT
DTSTART;TZID=Europe/Amsterdam:20250918T090000
DTEND;TZID=Europe/Amsterdam:20250918T150000
DTSTAMP:20260426T062104
CREATED:20250430T064452Z
LAST-MODIFIED:20250430T074449Z
UID:6315-1758186000-1758207600@schoolofrevival.nl
SUMMARY:Startdag Locatie Veluwe-Noord (alle groepen)
DESCRIPTION:
URL:https://schoolofrevival.nl/event/startdag-locatie-veluwe-noord-alle-groepen/
LOCATION:Locatie Veluwe-Noord | Doornspijk/Elburg\, Haerderweg 1\, Doornspijk\, 8085 RG
ORGANIZER;CN="I AM School of Revival":MAILTO:info@schoolofrevival.nl
END:VEVENT
BEGIN:VEVENT
DTSTART;TZID=Europe/Amsterdam:20250915T090000
DTEND;TZID=Europe/Amsterdam:20250915T150000
DTSTAMP:20260426T062104
CREATED:20250430T074341Z
LAST-MODIFIED:20250430T074437Z
UID:6333-1757926800-1757948400@schoolofrevival.nl
SUMMARY:Startdag Locatie Zuid-Holland (alle groepen)
DESCRIPTION:
URL:https://schoolofrevival.nl/event/startdag-locatie-zuid-holland-alle-groepen/
LOCATION:Locatie Zuid-Holland | Ridderkerk/Rijsoord\, Rijksstraatweg 95\, Ridderkerk Rijsoord\, 2988BB
ORGANIZER;CN="I AM School of Revival":MAILTO:info@schoolofrevival.nl
END:VEVENT
BEGIN:VEVENT
DTSTART;VALUE=DATE:20250707
DTEND;VALUE=DATE:20250909
DTSTAMP:20260426T062104
CREATED:20240213T164600Z
LAST-MODIFIED:20250430T070255Z
UID:4123-1751846400-1757375999@schoolofrevival.nl
SUMMARY:Zomervakantie 2024/2025
DESCRIPTION:7 juli t/m 8 September 2025
URL:https://schoolofrevival.nl/event/zomervakantie-2024-2025/
END:VEVENT
BEGIN:VEVENT
DTSTART;TZID=Europe/Amsterdam:20250704T193000
DTEND;TZID=Europe/Amsterdam:20250704T210000
DTSTAMP:20260426T062104
CREATED:20250430T073736Z
LAST-MODIFIED:20250507T201703Z
UID:6457-1751657400-1751662800@schoolofrevival.nl
SUMMARY:Open Avond (Locatie Doornspijk)
DESCRIPTION:Ontdek wat onze Bijbelschool voor jou kan betekenen tijdens onze informatiemomenten!\nTijdens deze open avond krijg je een kijkje achter de schermen van onze Bijbelschool. \nLaat ons weten dat je komt\, dan zeten we even iets leuks voor je klaar. \nLees meer of meld je aan…
URL:https://schoolofrevival.nl/event/open-avond-locatie-doornspijk-2/
LOCATION:Locatie Veluwe-Noord | Doornspijk/Elburg\, Haerderweg 1\, Doornspijk\, 8085 RG
ATTACH;FMTTYPE=image/jpeg:https://schoolofrevival.nl/wp-content/uploads/2025/05/ALBERT-3-4.jpeg
END:VEVENT
BEGIN:VEVENT
DTSTART;TZID=Europe/Amsterdam:20250703T193000
DTEND;TZID=Europe/Amsterdam:20250703T210000
DTSTAMP:20260426T062104
CREATED:20250430T144129Z
LAST-MODIFIED:20250507T201720Z
UID:6456-1751571000-1751576400@schoolofrevival.nl
SUMMARY:Open Avond (Locatie Zwijndrecht)
DESCRIPTION:Ontdek wat onze Bijbelschool voor jou kan betekenen tijdens onze informatiemomenten!\nTijdens deze open avond krijg je een kijkje achter de schermen van onze Bijbelschool. \nLaat ons weten dat je komt\, dan zeten we even iets leuks voor je klaar. \nLees meer of meld je aan…
URL:https://schoolofrevival.nl/event/open-avond-locatie-zwijndrecht/
LOCATION:Evangelisch College\, Anjerstraat 79\, Zwijndrecht\, zuid-holland\, 3333 GC
ATTACH;FMTTYPE=image/jpeg:https://schoolofrevival.nl/wp-content/uploads/2025/05/ALBERT-2-5.jpeg
END:VEVENT
BEGIN:VEVENT
DTSTART;VALUE=DATE:20250628
DTEND;VALUE=DATE:20250629
DTSTAMP:20260426T062104
CREATED:20250509T090901Z
LAST-MODIFIED:20250509T131449Z
UID:6771-1751068800-1751155199@schoolofrevival.nl
SUMMARY:Bezoek ons tijdens de Passie Conferentie
DESCRIPTION:Op dit event spreekt Albert van der Heide. Bezoek de stand van onze school tijdens de pauzes. \nSchrijf je in voor dit event
URL:https://schoolofrevival.nl/event/bezoek-ons-tijdens-de-passie-conferentie/
LOCATION:Mheneweg Noord 1 8096 BR Oldebroek\, Mheneweg Noord 1\, Oldebroek\, 8096 BR
ATTACH;FMTTYPE=image/jpeg:https://schoolofrevival.nl/wp-content/uploads/2025/05/Naamloos-2.jpeg
END:VEVENT
BEGIN:VEVENT
DTSTART;TZID=Europe/Amsterdam:20250626T190000
DTEND;TZID=Europe/Amsterdam:20250626T220000
DTSTAMP:20260426T062104
CREATED:20250430T065237Z
LAST-MODIFIED:20250430T065321Z
UID:6322-1750964400-1750975200@schoolofrevival.nl
SUMMARY:Diplomering 2024/2025
DESCRIPTION:
URL:https://schoolofrevival.nl/event/diplomering-2024-2025/
LOCATION:Locatie Zuid-Holland | Ridderkerk/Rijsoord\, Rijksstraatweg 95\, Ridderkerk Rijsoord\, 2988BB
ATTACH;FMTTYPE=image/jpeg:https://schoolofrevival.nl/wp-content/uploads/2025/04/uitnodiging-diplomering-2024-2025.jpeg
END:VEVENT
BEGIN:VEVENT
DTSTART;TZID=Europe/Amsterdam:20250618T193000
DTEND;TZID=Europe/Amsterdam:20250618T210000
DTSTAMP:20260426T062104
CREATED:20250430T144301Z
LAST-MODIFIED:20250507T201525Z
UID:6455-1750275000-1750280400@schoolofrevival.nl
SUMMARY:Online open Avond (Voor alle locaties)
DESCRIPTION:Ontdek wat onze Bijbelschool voor jou kan betekenen tijdens onze informatiemomenten!\nTijdens deze open avond krijg je een kijkje achter de schermen van onze Bijbelschool. \nLaat ons weten dat je komt\, dan ontvang je per ommegaande de Zoom link voor deze avond. \nLees meer of meld je aan…
URL:https://schoolofrevival.nl/event/online-open-avond-voor-alle-locaties/
LOCATION:Online link via email
ATTACH;FMTTYPE=image/jpeg:https://schoolofrevival.nl/wp-content/uploads/2025/04/ALBERT-4-4.jpeg
END:VEVENT
BEGIN:VEVENT
DTSTART;TZID=Europe/Amsterdam:20250617T200000
DTEND;TZID=Europe/Amsterdam:20250617T220000
DTSTAMP:20260426T062104
CREATED:20250605T132959Z
LAST-MODIFIED:20250605T133616Z
UID:7020-1750190400-1750197600@schoolofrevival.nl
SUMMARY:Outdoor Worship Night
DESCRIPTION:Outdoor Worship Night – Rivier van Aanbidding!\nEen avond van aanbidding\, Woord\, gebed\, bediening… en de mogelijkheid om je te laten dopen. \n???? Krachtige aanbidding in de buitenlucht.\n???? Buiten locatie dichtbij Wijk & Aalburg.\n???? Met ruimte voor het Woord\, gebed… én bediening.\n???? Er is de mogelijkheid om je te laten dopen. \nWe geloven dat God deze avond gebruikt als een rivier van Zijn tegenwoordigheid\, waar harten aangeraakt worden\, levens veranderen en Zijn liefde stroomt als nooit tevoren. \nWaarom ‘Rivier van Aanbidding’?\nGod is in beweging. Niet als een stilstaand meer\, maar als een rivier die leven brengt. In de Bijbel lezen we: \n“Wie in Mij gelooft\, zoals de Schrift zegt: Stromen van levend water zullen uit zijn binnenste vloeien.”\n– Johannes 7:38 \nWe geloven dat aanbidding iets losmaakt. Het opent de hemel\, het verandert atmosfeer\, het brengt verfrissing. Deze avond is een uitnodiging om mee te stromen… met Hem. \n???? Datum: Dinsdag 17 juni 2025\n???? Tijd: 20.00 – 21.30 uur (na afloop hapje & drankje)\n???? Locatie: Veldstraat 31\, Wijk & Aalburg\n????️ Toegang: Gratis – neem vrienden\, familie en buren mee!
URL:https://schoolofrevival.nl/event/outdoor-worship-night/
LOCATION:Veldstraat 31\, Wijk en Aalburg\, Veldstraat 31\, Wijk & Aalburg\, 4261 TB
ATTACH;FMTTYPE=image/png:https://schoolofrevival.nl/wp-content/uploads/2025/06/rivier-van-aanbidding-1-1.png
END:VEVENT
BEGIN:VEVENT
DTSTART;TZID=Europe/Amsterdam:20250616T100000
DTEND;TZID=Europe/Amsterdam:20250618T130000
DTSTAMP:20260426T062104
CREATED:20250514T154316Z
LAST-MODIFIED:20250605T133801Z
UID:6817-1750068000-1750251600@schoolofrevival.nl
SUMMARY:Revival Camp 2025
DESCRIPTION:Omdat we nog lang niet klaar zijn ;-) met wat God aan het doen is… gaan we kamperen! \nWe hebben nog zin in een revivalfeestje en daarom willen we graag 2 nachtjes gaan kamperen!\nWe zijn uitgenodigd door Gerard op zijn terrein ???? en dat wordt geweldig! We gaan er wat tofs van maken!\nDiep in Gods Woord\, in Zijn aanwezigheid & heerlijk tijd voor connectie met elkaar!❤️ \nEven praktisch!\nWanneer: ma 16 – woe 18 juni!\nTijden: 16e vanaf 10:00 uur – 18e rond 13:30 uur!\nEen lijstje met ‘mee te nemen spullen’ volgt later. \nVoor de parttimers… \nWe zouden het natuurlijk super leuk vinden als je blijft slapen\, maar als dat niet mogelijk is\, dan hoeft dat niet! Als je geen tentje hebt\, er is vast wat te regelen om iets te lenen of met elkaar in een tent te slapen.
URL:https://schoolofrevival.nl/event/revival-camp-2025/
ATTACH;FMTTYPE=image/jpeg:https://schoolofrevival.nl/wp-content/uploads/2025/05/revival-camp-1.jpeg
END:VEVENT
BEGIN:VEVENT
DTSTART;VALUE=DATE:20250529
DTEND;VALUE=DATE:20250602
DTSTAMP:20260426T062104
CREATED:20250430T105350Z
LAST-MODIFIED:20250501T140613Z
UID:6383-1748476800-1748822399@schoolofrevival.nl
SUMMARY:Bezoek ons tijdens Opwekking 2025
DESCRIPTION:Je vind ons op het buitenterrein\, tegenover de grote conferentietent op het Plaza\nWe geven je graag meer informatie over onze Bijbelschool!
URL:https://schoolofrevival.nl/event/bezoek-ons-tijdens-opwekking-2025/
LOCATION:Opwekking | Evenemententerrein\, Spijkweg 30\, Biddinghuizen\, 8256 RJ
ATTACH;FMTTYPE=image/jpeg:https://schoolofrevival.nl/wp-content/uploads/2025/04/Naamloos-3.jpeg
END:VEVENT
BEGIN:VEVENT
DTSTART;TZID=Europe/Amsterdam:20250527T193000
DTEND;TZID=Europe/Amsterdam:20250527T210000
DTSTAMP:20260426T062104
CREATED:20250430T143623Z
LAST-MODIFIED:20250507T201513Z
UID:6454-1748374200-1748379600@schoolofrevival.nl
SUMMARY:Open Avond (Locatie Doornspijk)
DESCRIPTION:Ontdek wat onze Bijbelschool voor jou kan betekenen tijdens onze informatiemomenten!\nTijdens deze open avond krijg je een kijkje achter de schermen van onze Bijbelschool. \nLaat ons weten dat je komt\, dan zeten we even iets leuks voor je klaar. \nLees meer of meld je aan…
URL:https://schoolofrevival.nl/event/open-avond-locatie-doornspijk/
LOCATION:Locatie Veluwe-Noord | Doornspijk/Elburg\, Haerderweg 1\, Doornspijk\, 8085 RG
ATTACH;FMTTYPE=image/jpeg:https://schoolofrevival.nl/wp-content/uploads/2025/04/ALBERT-2-7.jpeg
END:VEVENT
BEGIN:VEVENT
DTSTART;VALUE=DATE:20250524
DTEND;VALUE=DATE:20250525
DTSTAMP:20260426T062104
CREATED:20250430T124346Z
LAST-MODIFIED:20250430T124627Z
UID:6390-1748044800-1748131199@schoolofrevival.nl
SUMMARY:Bezoek ons tijdens de EO-Jongerendag 2025
DESCRIPTION:Je vind ons op het buitenterrein. We geven je graag meer informatie over onze Bijbelschool!
URL:https://schoolofrevival.nl/event/bezoek-ons-tijdens-de-eo-jongerendag-2025/
LOCATION:Ahoy Rotterdam\, Ahoyweg 10\, Rotterdam\, 3084 BD
ATTACH;FMTTYPE=image/jpeg:https://schoolofrevival.nl/wp-content/uploads/2025/04/eo-jongerendag-uitnodiging.jpeg
END:VEVENT
BEGIN:VEVENT
DTSTART;TZID=Europe/Amsterdam:20250522T123000
DTEND;TZID=Europe/Amsterdam:20250522T150000
DTSTAMP:20260426T062104
CREATED:20250430T145806Z
LAST-MODIFIED:20250507T201446Z
UID:6472-1747917000-1747926000@schoolofrevival.nl
SUMMARY:Open Middag (Locatie Zwijndrecht)
DESCRIPTION:Ontdek wat onze Bijbelschool voor jou kan betekenen tijdens onze informatiemomenten!\nTijdens deze open middag krijg je een kijkje achter de schermen van onze Bijbelschool. \nLaat ons weten dat je komt\, dan zeten we even iets leuks voor je klaar. \nLees meer of meld je aan…
URL:https://schoolofrevival.nl/event/open-middag-locatie-zwijndrecht/
LOCATION:Evangelisch College\, Anjerstraat 79\, Zwijndrecht\, zuid-holland\, 3333 GC
CATEGORIES:Zuid-Holland Info
ATTACH;FMTTYPE=image/jpeg:https://schoolofrevival.nl/wp-content/uploads/2025/04/ALBERT-2-4.jpeg
END:VEVENT
BEGIN:VEVENT
DTSTART;VALUE=DATE:20250428
DTEND;VALUE=DATE:20250509
DTSTAMP:20260426T062104
CREATED:20240213T164605Z
LAST-MODIFIED:20250430T070306Z
UID:4124-1745798400-1746748799@schoolofrevival.nl
SUMMARY:Meivakantie 2024/2025
DESCRIPTION:28 april t/m 8 mei 2025\n 
URL:https://schoolofrevival.nl/event/meivakantie-2024-2025/
END:VEVENT
BEGIN:VEVENT
DTSTART;TZID=Europe/Amsterdam:20250425T193000
DTEND;TZID=Europe/Amsterdam:20250425T210000
DTSTAMP:20260426T062104
CREATED:20250422T141641Z
LAST-MODIFIED:20250430T070302Z
UID:6283-1745609400-1745614800@schoolofrevival.nl
SUMMARY:Open Avond (Locatie Doornspijk)
DESCRIPTION:Ben jij klaar voor een seizoen van groei\, geloof en Gods kracht? ✨\nOntdek wat de I AM School of Revival voor jou kan betekenen tijdens onze Open Avond! \n???? Datum: 25 april\n⏰ Tijd: 19.30-21.00\n???? Locatie:Haerderweg 1\, 8085 RG\, Doornspijk \nTijdens deze open dag krijg je een kijkje achter de schermen van onze Bijbelschool. Wat kun je verwachten?\nOf je nu hongerig bent naar meer van God\, zoekt naar een plek om toegerust te worden\, of gewoon nieuwsgierig bent: je bent welkom!\nKom ontdekken hoe de Heilige Geest jou kan leiden naar een leven vol kracht\, liefde en impact. Zien we jou daar? \n???? Meld je snel aan via https://schoolofrevival.nl/kennismaken/. Laat ons weten dat je komt\, zodat we iets speciaals voor je kunnen klaarzetten! \nTot dan!\nTeam I AM School of Revival
URL:https://schoolofrevival.nl/event/6283/
LOCATION:Locatie Veluwe-Noord | Doornspijk/Elburg\, Haerderweg 1\, Doornspijk\, 8085 RG
ATTACH;FMTTYPE=image/jpeg:https://schoolofrevival.nl/wp-content/uploads/2025/04/WhatsApp-Image-2025-04-22-at-07.51.22.jpeg
END:VEVENT
BEGIN:VEVENT
DTSTART;VALUE=DATE:20250406
DTEND;VALUE=DATE:20250424
DTSTAMP:20260426T062104
CREATED:20240213T165133Z
LAST-MODIFIED:20250430T070309Z
UID:4125-1743904800-1745373599@schoolofrevival.nl
SUMMARY:Mission Trips 2024/2025 | Equador | 2e Jaars Parttime + Fulltime
DESCRIPTION:De 2e jaars gaan op missietrip naar Equador.
URL:https://schoolofrevival.nl/event/mission-trips-2024-2025-equador-2e-jaars-fulltime/
CATEGORIES:Event
ORGANIZER;CN="I AM School of Revival":MAILTO:info@schoolofrevival.nl
END:VEVENT
BEGIN:VEVENT
DTSTART;VALUE=DATE:20250318
DTEND;VALUE=DATE:20250329
DTSTAMP:20260426T062104
CREATED:20250430T112410Z
LAST-MODIFIED:20250430T112633Z
UID:6394-1742259600-1743123599@schoolofrevival.nl
SUMMARY:Mission Week | 2026
DESCRIPTION:Mission Week – 2026\nEr zijn drie opties voor de Mission Week voor schooljaar 2024/2025.\n– De eerste is op outreach naar Roemenië. Meer informatie volgt.\n– De tweede is op outreach naar Zambia. Meer informatie volgt.\n– De andere optie is in Nederland/België. Meer informatie volgt.
URL:https://schoolofrevival.nl/event/mission-week-2026/
CATEGORIES:Event
ORGANIZER;CN="I AM School of Revival":MAILTO:info@schoolofrevival.nl
END:VEVENT
BEGIN:VEVENT
DTSTART;VALUE=DATE:20250318
DTEND;VALUE=DATE:20250329
DTSTAMP:20260426T062104
CREATED:20240213T165212Z
LAST-MODIFIED:20250430T070315Z
UID:4127-1742259600-1743123599@schoolofrevival.nl
SUMMARY:Mission Week | 2024/2025
DESCRIPTION:Mission Week – 2024/2025\nEr zijn drie opties voor de Mission Week voor schooljaar 2024/2025.\nDe mogelijkheden zijn ook afhankelijk van je school/leerjaar.\n– De eerste is op outreach naar Roemenië. Meer informatie vindt je door hier te klikken. (1e jaar fulltime + 1e jaar parttime)\n– De tweede is op outreach naar Ecuador. Meer informatie vindt je door hier te klikken. (2e jaar fulltime + 2e jaar parttime)\n– De andere optie is in Nederland/België. Meer informatie vindt je door hier te klikken. (Ieder School- en Leerjaar) \nDe 2e jaars fulltime krijgen hebben nog een extra mogelijkheid om een missie te doen naar Zuid-Afrika / Zambia.
URL:https://schoolofrevival.nl/event/mission-trips-1e-jaar-roemenie-en-nederland-2024-2025/
CATEGORIES:Event
ORGANIZER;CN="I AM School of Revival":MAILTO:info@schoolofrevival.nl
END:VEVENT
BEGIN:VEVENT
DTSTART;VALUE=DATE:20250222
DTEND;VALUE=DATE:20250303
DTSTAMP:20260426T062104
CREATED:20240213T164851Z
LAST-MODIFIED:20250430T070323Z
UID:4128-1740182400-1740959999@schoolofrevival.nl
SUMMARY:Voorjaarsvakantie 2024/2025
DESCRIPTION:22 februari t/m 2 maart 2025
URL:https://schoolofrevival.nl/event/voorjaarsvakantie-2024-2025/
END:VEVENT
BEGIN:VEVENT
DTSTART;VALUE=DATE:20241223
DTEND;VALUE=DATE:20250104
DTSTAMP:20260426T062104
CREATED:20240213T164916Z
LAST-MODIFIED:20250430T070418Z
UID:4129-1734912000-1735948799@schoolofrevival.nl
SUMMARY:Kerstvakantie 2024/2025
DESCRIPTION:23 december 2024 t/m 3 januari 2025
URL:https://schoolofrevival.nl/event/kerstvakantie-2024-2025/
END:VEVENT
BEGIN:VEVENT
DTSTART;VALUE=DATE:20241118
DTEND;VALUE=DATE:20241204
DTSTAMP:20260426T062104
CREATED:20240213T164759Z
LAST-MODIFIED:20250430T070429Z
UID:4126-1731891600-1733187599@schoolofrevival.nl
SUMMARY:Mission Trip | Fulltimers 2e jaar | 2024/2025
DESCRIPTION:
URL:https://schoolofrevival.nl/event/mission-trip-kenia-fulltimers-2e-jaar-2024-2025/
CATEGORIES:Event
ORGANIZER;CN="I AM School of Revival":MAILTO:info@schoolofrevival.nl
END:VEVENT
BEGIN:VEVENT
DTSTART;VALUE=DATE:20241105
DTEND;VALUE=DATE:20241109
DTSTAMP:20260426T062104
CREATED:20240213T165734Z
LAST-MODIFIED:20250430T070433Z
UID:4146-1730764800-1731110399@schoolofrevival.nl
SUMMARY:Bijbelschool Ministry Weekend | 2e Jaars Fulltime en 2e jaar parttime | 2024/2025
DESCRIPTION:Van dinsdag 5 tot en met vrijdag 8 november zullen we met elkaar een midweek weggaan. Dit wordt een onvergetelijke tijd. Dit is een verplicht onderdeel van de school\, ook voor de parttimers. Alleen in overleg en uitzonderlijke gevallen kan hier uitstel voor worden verkregen.\nDe kosten hiervan zijn al bij je schoolgeld inbegrepen.
URL:https://schoolofrevival.nl/event/bijbelschool-ministry-weekend-1e-jaars-fulltime-en-parttime-2024-2025/
CATEGORIES:Event
ORGANIZER;CN="I AM School of Revival":MAILTO:info@schoolofrevival.nl
END:VEVENT
BEGIN:VEVENT
DTSTART;VALUE=DATE:20241105
DTEND;VALUE=DATE:20241109
DTSTAMP:20260426T062104
CREATED:20240213T164915Z
LAST-MODIFIED:20250430T070438Z
UID:4130-1730764800-1731110399@schoolofrevival.nl
SUMMARY:Bijbelschool Ministry Week | Hele School | 2024/2025
DESCRIPTION:Van Dinsdag 05-11 t/m Vrijdag 08-11 zullen we aantal dagen met elkaar weggaan. Dit wordt een onvergetelijk tijd. Dit is een verplicht onderdeel van de school\, ook voor de parttimers. Alleen in overleg en uitzonderlijke gevallen kan hier uitstel voor worden verkregen.\nDe kosten hiervan zijn al bij je schoolgeld inbegrepen.
URL:https://schoolofrevival.nl/event/bijbelschool-ministry-week-hele-school-2024-2025/
CATEGORIES:Event
ORGANIZER;CN="I AM School of Revival":MAILTO:info@schoolofrevival.nl
END:VEVENT
BEGIN:VEVENT
DTSTART;VALUE=DATE:20241021
DTEND;VALUE=DATE:20241105
DTSTAMP:20260426T062104
CREATED:20240213T164913Z
LAST-MODIFIED:20250430T070444Z
UID:4131-1729476000-1730681999@schoolofrevival.nl
SUMMARY:Herfstvakantie 2024/2025
DESCRIPTION:21 Oktober t/m 4 November 2024
URL:https://schoolofrevival.nl/event/herfstvakantie-2024-2025/
LOCATION:Evangelisch College\, Anjerstraat 79\, Zwijndrecht\, zuid-holland\, 3333 GC
CATEGORIES:Event
END:VEVENT
BEGIN:VEVENT
DTSTART;VALUE=DATE:20240910
DTEND;VALUE=DATE:20240911
DTSTAMP:20260426T062104
CREATED:20240828T094540Z
LAST-MODIFIED:20250430T070449Z
UID:5329-1725926400-1726012799@schoolofrevival.nl
SUMMARY:Start 1e jaar partime
DESCRIPTION:Eerste dag op 10 September
URL:https://schoolofrevival.nl/event/start-1e-jaar-partime/
END:VEVENT
BEGIN:VEVENT
DTSTART;TZID=Europe/Amsterdam:20240909T080000
DTEND;TZID=Europe/Amsterdam:20240909T170000
DTSTAMP:20260426T062104
CREATED:20240828T094440Z
LAST-MODIFIED:20250430T070500Z
UID:5327-1725868800-1725901200@schoolofrevival.nl
SUMMARY:Start fulltime 1e & 2e jaar + 2e jaar partime
DESCRIPTION:Eerste dag op 9 September
URL:https://schoolofrevival.nl/event/start-fulltime-1e-2e-jaar-2e-jaar-partime/
END:VEVENT
BEGIN:VEVENT
DTSTART;VALUE=DATE:20240706
DTEND;VALUE=DATE:20240907
DTSTAMP:20260426T062104
CREATED:20230613T135144Z
LAST-MODIFIED:20250430T070519Z
UID:2833-1720224000-1725667199@schoolofrevival.nl
SUMMARY:Zomervakantie 2023/2024
DESCRIPTION:06 juli t/m 06 september 2024
URL:https://schoolofrevival.nl/event/zomervakantie/
END:VEVENT
END:VCALENDAR