BEGIN:VCALENDAR
VERSION:2.0
PRODID:-//Bijbelschool | Interkerkelijk | School of Revival - ECPv6.15.20//NONSGML v1.0//EN
CALSCALE:GREGORIAN
METHOD:PUBLISH
X-ORIGINAL-URL:https://schoolofrevival.nl
X-WR-CALDESC:Evenementen voor Bijbelschool | Interkerkelijk | School of Revival
REFRESH-INTERVAL;VALUE=DURATION:PT1H
X-Robots-Tag:noindex
X-PUBLISHED-TTL:PT1H
BEGIN:VTIMEZONE
TZID:Europe/Amsterdam
BEGIN:DAYLIGHT
TZOFFSETFROM:+0100
TZOFFSETTO:+0200
TZNAME:CEST
DTSTART:20220327T010000
END:DAYLIGHT
BEGIN:STANDARD
TZOFFSETFROM:+0200
TZOFFSETTO:+0100
TZNAME:CET
DTSTART:20221030T010000
END:STANDARD
BEGIN:DAYLIGHT
TZOFFSETFROM:+0100
TZOFFSETTO:+0200
TZNAME:CEST
DTSTART:20230326T010000
END:DAYLIGHT
BEGIN:STANDARD
TZOFFSETFROM:+0200
TZOFFSETTO:+0100
TZNAME:CET
DTSTART:20231029T010000
END:STANDARD
BEGIN:DAYLIGHT
TZOFFSETFROM:+0100
TZOFFSETTO:+0200
TZNAME:CEST
DTSTART:20240331T010000
END:DAYLIGHT
BEGIN:STANDARD
TZOFFSETFROM:+0200
TZOFFSETTO:+0100
TZNAME:CET
DTSTART:20241027T010000
END:STANDARD
BEGIN:DAYLIGHT
TZOFFSETFROM:+0100
TZOFFSETTO:+0200
TZNAME:CEST
DTSTART:20250330T010000
END:DAYLIGHT
BEGIN:STANDARD
TZOFFSETFROM:+0200
TZOFFSETTO:+0100
TZNAME:CET
DTSTART:20251026T010000
END:STANDARD
END:VTIMEZONE
BEGIN:VEVENT
DTSTART;VALUE=DATE:20240318
DTEND;VALUE=DATE:20240330
DTSTAMP:20260425T221740
CREATED:20210915T052505Z
LAST-MODIFIED:20240213T163827Z
UID:2269-1710723600-1711673999@schoolofrevival.nl
SUMMARY:Mission Trips 2023/2024
DESCRIPTION:Van 18-03 tot 28-03 is het Mission Week\, waarin je deel kunt nemen aan diverse outreaches en missiontrips in Nederland en in het buitenland. De kosten daarvan zijn van € 250 voor missies in Nederland tot ca. € 2750 als je mee naar het buitenland wilt. Deze kosten zijn niet in het schoolgeld inbegrepen.
URL:https://schoolofrevival.nl/event/mission-trips/
LOCATION:zuid-holland
CATEGORIES:Event
ATTACH;FMTTYPE=image/jpeg:https://schoolofrevival.nl/wp-content/uploads/2023/06/voor-events-7-1.jpg
ORGANIZER;CN="I AM School of Revival":MAILTO:info@schoolofrevival.nl
END:VEVENT
BEGIN:VEVENT
DTSTART;VALUE=DATE:20231102
DTEND;VALUE=DATE:20231105
DTSTAMP:20260425T221740
CREATED:20160316T114710Z
LAST-MODIFIED:20240213T163838Z
UID:610-1698883200-1699142399@schoolofrevival.nl
SUMMARY:Bijbelschool Weekend 2023/2024
DESCRIPTION:Van donderdag 2 tot en met zaterdag 4 november zullen we met elkaar een weekend weggaan. Dit wordt een onvergetelijk weekend. Dit is een verplicht onderdeel van de school\, ook voor de parttimers. Alleen in overleg en uitzonderlijke gevallen kan hier uitsteel voor worden verkregen.\nDe kosten hiervan zijn al bij je schoolgeld inbegrepen.
URL:https://schoolofrevival.nl/event/firestart-weekend/
LOCATION:zuid-holland
CATEGORIES:Event
ATTACH;FMTTYPE=image/jpeg:https://schoolofrevival.nl/wp-content/uploads/2023/06/voor-events-2-1.jpg
ORGANIZER;CN="I AM School of Revival":MAILTO:info@schoolofrevival.nl
END:VEVENT
BEGIN:VEVENT
DTSTART;VALUE=DATE:20231014
DTEND;VALUE=DATE:20231024
DTSTAMP:20260425T221740
CREATED:20160316T115245Z
LAST-MODIFIED:20240213T163844Z
UID:618-1697248800-1698026399@schoolofrevival.nl
SUMMARY:Herfstvakantie 2023/2024
DESCRIPTION:14 oktober t/m 22 oktober 2023\n  \n\nSchoolvakanties\nWe houden de onderstaande schoolvakanties aan\, dat is met als basis de regio midden.\nMocht vakantie in jouw regio anders vallen dan is daar vrijstelling voor m.b.t je aanwezigheid. \n\n\n\n\n\nStartdatum school\n4 september 2023 \nHerfstvakantie\n14 oktober t/m 22 oktober 2023 \n\n\n\n\n\n\nKerstvakantie\n23 december 2023 t/m 7 januari 2024 \nVoorjaarsvakantie\n17 februari t/m 25 februari 2024 \n\n\n\n\n\n\nMeivakantie\n27 april t/m 5 mei 2024 \nZomervakantie\n6 juli t/m 01 september 2024
URL:https://schoolofrevival.nl/event/herfstvakantie/
LOCATION:Locatie Vijverhof\, Vijverhof 10\, Hendrik-Ido-Ambacht\, 3341 TS\, Nederland
CATEGORIES:Event
ATTACH;FMTTYPE=image/jpeg:https://schoolofrevival.nl/wp-content/uploads/2023/06/voor-events-3-1.jpg
END:VEVENT
BEGIN:VEVENT
DTSTART;VALUE=DATE:20230904
DTEND;VALUE=DATE:20230906
DTSTAMP:20260425T221740
CREATED:20171114T152023Z
LAST-MODIFIED:20240213T163907Z
UID:1861-1693792800-1693879199@schoolofrevival.nl
SUMMARY:Startdatum school 2023/2024
DESCRIPTION:4 september 2023\n  \n\nSchoolvakanties\nWe houden de onderstaande schoolvakanties aan\, dat is met als basis de regio midden.\nMocht vakantie in jouw regio anders vallen dan is daar vrijstelling voor m.b.t je aanwezigheid. \n\n\n\n\n\nStartdatum school\n4 september 2023 \nHerfstvakantie\n14 oktober t/m 22 oktober 2023 \n\n\n\n\n\n\nKerstvakantie\n23 december 2023 t/m 7 januari 2024 \nVoorjaarsvakantie\n17 februari t/m 25 februari 2024 \n\n\n\n\n\n\nMeivakantie\n27 april t/m 5 mei 2024 \nZomervakantie\n6 juli t/m 01 september 2024
URL:https://schoolofrevival.nl/event/startdatum-school/
LOCATION:zuid-holland
CATEGORIES:Event
ATTACH;FMTTYPE=image/jpeg:https://schoolofrevival.nl/wp-content/uploads/2023/06/voor-events-1-1.jpg
END:VEVENT
END:VCALENDAR